BEGIN:VCALENDAR
VERSION:2.0
PRODID:-//Savannah Lakes Village - ECPv6.15.13.1//NONSGML v1.0//EN
CALSCALE:GREGORIAN
METHOD:PUBLISH
X-WR-CALNAME:Savannah Lakes Village
X-ORIGINAL-URL:https://savannahlakesvillage.com
X-WR-CALDESC:Events for Savannah Lakes Village
REFRESH-INTERVAL;VALUE=DURATION:PT1H
X-Robots-Tag:noindex
X-PUBLISHED-TTL:PT1H
BEGIN:VTIMEZONE
TZID:UTC
BEGIN:STANDARD
TZOFFSETFROM:+0000
TZOFFSETTO:+0000
TZNAME:UTC
DTSTART:20250101T000000
END:STANDARD
END:VTIMEZONE
BEGIN:VEVENT
DTSTART;TZID=UTC:20260423T093000
DTEND;TZID=UTC:20260423T110000
DTSTAMP:20260422T234300
CREATED:20240723T190717Z
LAST-MODIFIED:20260108T164714Z
UID:10002466-1776936600-1776942000@savannahlakesvillage.com
SUMMARY:YOGA
DESCRIPTION:
URL:https://savannahlakesvillage.com/event/yoga-2/2026-04-23/
LOCATION:Recreation Center\, 385 Country Club Drive\, McCormick\, SC\, 29835\, United States
ATTACH;FMTTYPE=image/png:https://savannahlakesvillage.com/wp-content/uploads/2024/07/YOGA-CLASS.png
END:VEVENT
BEGIN:VEVENT
DTSTART;TZID=UTC:20260424T093000
DTEND;TZID=UTC:20260424T110000
DTSTAMP:20260422T234300
CREATED:20240723T190717Z
LAST-MODIFIED:20260108T164714Z
UID:10002467-1777023000-1777028400@savannahlakesvillage.com
SUMMARY:YOGA
DESCRIPTION:
URL:https://savannahlakesvillage.com/event/yoga-2/2026-04-24/
LOCATION:Recreation Center\, 385 Country Club Drive\, McCormick\, SC\, 29835\, United States
ATTACH;FMTTYPE=image/png:https://savannahlakesvillage.com/wp-content/uploads/2024/07/YOGA-CLASS.png
END:VEVENT
BEGIN:VEVENT
DTSTART;TZID=UTC:20260428T093000
DTEND;TZID=UTC:20260428T110000
DTSTAMP:20260422T234300
CREATED:20240723T190717Z
LAST-MODIFIED:20260108T164714Z
UID:10002468-1777368600-1777374000@savannahlakesvillage.com
SUMMARY:YOGA
DESCRIPTION:
URL:https://savannahlakesvillage.com/event/yoga-2/2026-04-28/
LOCATION:Recreation Center\, 385 Country Club Drive\, McCormick\, SC\, 29835\, United States
ATTACH;FMTTYPE=image/png:https://savannahlakesvillage.com/wp-content/uploads/2024/07/YOGA-CLASS.png
END:VEVENT
BEGIN:VEVENT
DTSTART;TZID=UTC:20260430T093000
DTEND;TZID=UTC:20260430T110000
DTSTAMP:20260422T234300
CREATED:20240723T190717Z
LAST-MODIFIED:20260108T164714Z
UID:10002469-1777541400-1777546800@savannahlakesvillage.com
SUMMARY:YOGA
DESCRIPTION:
URL:https://savannahlakesvillage.com/event/yoga-2/2026-04-30/
LOCATION:Recreation Center\, 385 Country Club Drive\, McCormick\, SC\, 29835\, United States
ATTACH;FMTTYPE=image/png:https://savannahlakesvillage.com/wp-content/uploads/2024/07/YOGA-CLASS.png
END:VEVENT
BEGIN:VEVENT
DTSTART;TZID=UTC:20260501T093000
DTEND;TZID=UTC:20260501T110000
DTSTAMP:20260422T234300
CREATED:20240723T190717Z
LAST-MODIFIED:20260108T164714Z
UID:10002470-1777627800-1777633200@savannahlakesvillage.com
SUMMARY:YOGA
DESCRIPTION:
URL:https://savannahlakesvillage.com/event/yoga-2/2026-05-01/
LOCATION:Recreation Center\, 385 Country Club Drive\, McCormick\, SC\, 29835\, United States
ATTACH;FMTTYPE=image/png:https://savannahlakesvillage.com/wp-content/uploads/2024/07/YOGA-CLASS.png
END:VEVENT
BEGIN:VEVENT
DTSTART;TZID=UTC:20260505T093000
DTEND;TZID=UTC:20260505T110000
DTSTAMP:20260422T234300
CREATED:20240723T190717Z
LAST-MODIFIED:20260108T164714Z
UID:10002471-1777973400-1777978800@savannahlakesvillage.com
SUMMARY:YOGA
DESCRIPTION:
URL:https://savannahlakesvillage.com/event/yoga-2/2026-05-05/
LOCATION:Recreation Center\, 385 Country Club Drive\, McCormick\, SC\, 29835\, United States
ATTACH;FMTTYPE=image/png:https://savannahlakesvillage.com/wp-content/uploads/2024/07/YOGA-CLASS.png
END:VEVENT
BEGIN:VEVENT
DTSTART;TZID=UTC:20260507T093000
DTEND;TZID=UTC:20260507T110000
DTSTAMP:20260422T234300
CREATED:20240723T190717Z
LAST-MODIFIED:20260108T164714Z
UID:10002472-1778146200-1778151600@savannahlakesvillage.com
SUMMARY:YOGA
DESCRIPTION:
URL:https://savannahlakesvillage.com/event/yoga-2/2026-05-07/
LOCATION:Recreation Center\, 385 Country Club Drive\, McCormick\, SC\, 29835\, United States
ATTACH;FMTTYPE=image/png:https://savannahlakesvillage.com/wp-content/uploads/2024/07/YOGA-CLASS.png
END:VEVENT
BEGIN:VEVENT
DTSTART;TZID=UTC:20260508T093000
DTEND;TZID=UTC:20260508T110000
DTSTAMP:20260422T234300
CREATED:20240723T190717Z
LAST-MODIFIED:20260108T164714Z
UID:10002473-1778232600-1778238000@savannahlakesvillage.com
SUMMARY:YOGA
DESCRIPTION:
URL:https://savannahlakesvillage.com/event/yoga-2/2026-05-08/
LOCATION:Recreation Center\, 385 Country Club Drive\, McCormick\, SC\, 29835\, United States
ATTACH;FMTTYPE=image/png:https://savannahlakesvillage.com/wp-content/uploads/2024/07/YOGA-CLASS.png
END:VEVENT
BEGIN:VEVENT
DTSTART;TZID=UTC:20260512T093000
DTEND;TZID=UTC:20260512T110000
DTSTAMP:20260422T234300
CREATED:20240723T190717Z
LAST-MODIFIED:20260108T164714Z
UID:10002474-1778578200-1778583600@savannahlakesvillage.com
SUMMARY:YOGA
DESCRIPTION:
URL:https://savannahlakesvillage.com/event/yoga-2/2026-05-12/
LOCATION:Recreation Center\, 385 Country Club Drive\, McCormick\, SC\, 29835\, United States
ATTACH;FMTTYPE=image/png:https://savannahlakesvillage.com/wp-content/uploads/2024/07/YOGA-CLASS.png
END:VEVENT
BEGIN:VEVENT
DTSTART;TZID=UTC:20260514T093000
DTEND;TZID=UTC:20260514T110000
DTSTAMP:20260422T234300
CREATED:20240723T190717Z
LAST-MODIFIED:20260108T164714Z
UID:10002475-1778751000-1778756400@savannahlakesvillage.com
SUMMARY:YOGA
DESCRIPTION:
URL:https://savannahlakesvillage.com/event/yoga-2/2026-05-14/
LOCATION:Recreation Center\, 385 Country Club Drive\, McCormick\, SC\, 29835\, United States
ATTACH;FMTTYPE=image/png:https://savannahlakesvillage.com/wp-content/uploads/2024/07/YOGA-CLASS.png
END:VEVENT
BEGIN:VEVENT
DTSTART;TZID=UTC:20260515T093000
DTEND;TZID=UTC:20260515T110000
DTSTAMP:20260422T234300
CREATED:20240723T190717Z
LAST-MODIFIED:20260108T164714Z
UID:10002476-1778837400-1778842800@savannahlakesvillage.com
SUMMARY:YOGA
DESCRIPTION:
URL:https://savannahlakesvillage.com/event/yoga-2/2026-05-15/
LOCATION:Recreation Center\, 385 Country Club Drive\, McCormick\, SC\, 29835\, United States
ATTACH;FMTTYPE=image/png:https://savannahlakesvillage.com/wp-content/uploads/2024/07/YOGA-CLASS.png
END:VEVENT
BEGIN:VEVENT
DTSTART;TZID=UTC:20260519T093000
DTEND;TZID=UTC:20260519T110000
DTSTAMP:20260422T234300
CREATED:20240723T190717Z
LAST-MODIFIED:20260108T164714Z
UID:10002477-1779183000-1779188400@savannahlakesvillage.com
SUMMARY:YOGA
DESCRIPTION:
URL:https://savannahlakesvillage.com/event/yoga-2/2026-05-19/
LOCATION:Recreation Center\, 385 Country Club Drive\, McCormick\, SC\, 29835\, United States
ATTACH;FMTTYPE=image/png:https://savannahlakesvillage.com/wp-content/uploads/2024/07/YOGA-CLASS.png
END:VEVENT
BEGIN:VEVENT
DTSTART;TZID=UTC:20260521T093000
DTEND;TZID=UTC:20260521T110000
DTSTAMP:20260422T234300
CREATED:20240723T190717Z
LAST-MODIFIED:20260108T164714Z
UID:10002478-1779355800-1779361200@savannahlakesvillage.com
SUMMARY:YOGA
DESCRIPTION:
URL:https://savannahlakesvillage.com/event/yoga-2/2026-05-21/
LOCATION:Recreation Center\, 385 Country Club Drive\, McCormick\, SC\, 29835\, United States
ATTACH;FMTTYPE=image/png:https://savannahlakesvillage.com/wp-content/uploads/2024/07/YOGA-CLASS.png
END:VEVENT
BEGIN:VEVENT
DTSTART;TZID=UTC:20260522T093000
DTEND;TZID=UTC:20260522T110000
DTSTAMP:20260422T234300
CREATED:20240723T190717Z
LAST-MODIFIED:20260108T164714Z
UID:10002479-1779442200-1779447600@savannahlakesvillage.com
SUMMARY:YOGA
DESCRIPTION:
URL:https://savannahlakesvillage.com/event/yoga-2/2026-05-22/
LOCATION:Recreation Center\, 385 Country Club Drive\, McCormick\, SC\, 29835\, United States
ATTACH;FMTTYPE=image/png:https://savannahlakesvillage.com/wp-content/uploads/2024/07/YOGA-CLASS.png
END:VEVENT
BEGIN:VEVENT
DTSTART;TZID=UTC:20260526T093000
DTEND;TZID=UTC:20260526T110000
DTSTAMP:20260422T234300
CREATED:20240723T190717Z
LAST-MODIFIED:20260108T164714Z
UID:10002480-1779787800-1779793200@savannahlakesvillage.com
SUMMARY:YOGA
DESCRIPTION:
URL:https://savannahlakesvillage.com/event/yoga-2/2026-05-26/
LOCATION:Recreation Center\, 385 Country Club Drive\, McCormick\, SC\, 29835\, United States
ATTACH;FMTTYPE=image/png:https://savannahlakesvillage.com/wp-content/uploads/2024/07/YOGA-CLASS.png
END:VEVENT
BEGIN:VEVENT
DTSTART;TZID=UTC:20260528T093000
DTEND;TZID=UTC:20260528T110000
DTSTAMP:20260422T234300
CREATED:20240723T190717Z
LAST-MODIFIED:20260108T164714Z
UID:10002481-1779960600-1779966000@savannahlakesvillage.com
SUMMARY:YOGA
DESCRIPTION:
URL:https://savannahlakesvillage.com/event/yoga-2/2026-05-28/
LOCATION:Recreation Center\, 385 Country Club Drive\, McCormick\, SC\, 29835\, United States
ATTACH;FMTTYPE=image/png:https://savannahlakesvillage.com/wp-content/uploads/2024/07/YOGA-CLASS.png
END:VEVENT
BEGIN:VEVENT
DTSTART;TZID=UTC:20260529T093000
DTEND;TZID=UTC:20260529T110000
DTSTAMP:20260422T234300
CREATED:20240723T190717Z
LAST-MODIFIED:20260108T164714Z
UID:10002482-1780047000-1780052400@savannahlakesvillage.com
SUMMARY:YOGA
DESCRIPTION:
URL:https://savannahlakesvillage.com/event/yoga-2/2026-05-29/
LOCATION:Recreation Center\, 385 Country Club Drive\, McCormick\, SC\, 29835\, United States
ATTACH;FMTTYPE=image/png:https://savannahlakesvillage.com/wp-content/uploads/2024/07/YOGA-CLASS.png
END:VEVENT
BEGIN:VEVENT
DTSTART;TZID=UTC:20260602T093000
DTEND;TZID=UTC:20260602T110000
DTSTAMP:20260422T234300
CREATED:20240723T190717Z
LAST-MODIFIED:20260108T164714Z
UID:10002483-1780392600-1780398000@savannahlakesvillage.com
SUMMARY:YOGA
DESCRIPTION:
URL:https://savannahlakesvillage.com/event/yoga-2/2026-06-02/
LOCATION:Recreation Center\, 385 Country Club Drive\, McCormick\, SC\, 29835\, United States
ATTACH;FMTTYPE=image/png:https://savannahlakesvillage.com/wp-content/uploads/2024/07/YOGA-CLASS.png
END:VEVENT
BEGIN:VEVENT
DTSTART;TZID=UTC:20260604T093000
DTEND;TZID=UTC:20260604T110000
DTSTAMP:20260422T234300
CREATED:20240723T190717Z
LAST-MODIFIED:20260108T164714Z
UID:10002484-1780565400-1780570800@savannahlakesvillage.com
SUMMARY:YOGA
DESCRIPTION:
URL:https://savannahlakesvillage.com/event/yoga-2/2026-06-04/
LOCATION:Recreation Center\, 385 Country Club Drive\, McCormick\, SC\, 29835\, United States
ATTACH;FMTTYPE=image/png:https://savannahlakesvillage.com/wp-content/uploads/2024/07/YOGA-CLASS.png
END:VEVENT
BEGIN:VEVENT
DTSTART;TZID=UTC:20260605T093000
DTEND;TZID=UTC:20260605T110000
DTSTAMP:20260422T234300
CREATED:20240723T190717Z
LAST-MODIFIED:20260108T164714Z
UID:10002485-1780651800-1780657200@savannahlakesvillage.com
SUMMARY:YOGA
DESCRIPTION:
URL:https://savannahlakesvillage.com/event/yoga-2/2026-06-05/
LOCATION:Recreation Center\, 385 Country Club Drive\, McCormick\, SC\, 29835\, United States
ATTACH;FMTTYPE=image/png:https://savannahlakesvillage.com/wp-content/uploads/2024/07/YOGA-CLASS.png
END:VEVENT
BEGIN:VEVENT
DTSTART;TZID=UTC:20260609T093000
DTEND;TZID=UTC:20260609T110000
DTSTAMP:20260422T234300
CREATED:20240723T190717Z
LAST-MODIFIED:20260108T164714Z
UID:10002486-1780997400-1781002800@savannahlakesvillage.com
SUMMARY:YOGA
DESCRIPTION:
URL:https://savannahlakesvillage.com/event/yoga-2/2026-06-09/
LOCATION:Recreation Center\, 385 Country Club Drive\, McCormick\, SC\, 29835\, United States
ATTACH;FMTTYPE=image/png:https://savannahlakesvillage.com/wp-content/uploads/2024/07/YOGA-CLASS.png
END:VEVENT
BEGIN:VEVENT
DTSTART;TZID=UTC:20260611T093000
DTEND;TZID=UTC:20260611T110000
DTSTAMP:20260422T234300
CREATED:20240723T190717Z
LAST-MODIFIED:20260108T164714Z
UID:10002487-1781170200-1781175600@savannahlakesvillage.com
SUMMARY:YOGA
DESCRIPTION:
URL:https://savannahlakesvillage.com/event/yoga-2/2026-06-11/
LOCATION:Recreation Center\, 385 Country Club Drive\, McCormick\, SC\, 29835\, United States
ATTACH;FMTTYPE=image/png:https://savannahlakesvillage.com/wp-content/uploads/2024/07/YOGA-CLASS.png
END:VEVENT
BEGIN:VEVENT
DTSTART;TZID=UTC:20260612T093000
DTEND;TZID=UTC:20260612T110000
DTSTAMP:20260422T234300
CREATED:20240723T190717Z
LAST-MODIFIED:20260108T164714Z
UID:10002488-1781256600-1781262000@savannahlakesvillage.com
SUMMARY:YOGA
DESCRIPTION:
URL:https://savannahlakesvillage.com/event/yoga-2/2026-06-12/
LOCATION:Recreation Center\, 385 Country Club Drive\, McCormick\, SC\, 29835\, United States
ATTACH;FMTTYPE=image/png:https://savannahlakesvillage.com/wp-content/uploads/2024/07/YOGA-CLASS.png
END:VEVENT
BEGIN:VEVENT
DTSTART;TZID=UTC:20260616T093000
DTEND;TZID=UTC:20260616T110000
DTSTAMP:20260422T234300
CREATED:20240723T190717Z
LAST-MODIFIED:20260108T164714Z
UID:10002489-1781602200-1781607600@savannahlakesvillage.com
SUMMARY:YOGA
DESCRIPTION:
URL:https://savannahlakesvillage.com/event/yoga-2/2026-06-16/
LOCATION:Recreation Center\, 385 Country Club Drive\, McCormick\, SC\, 29835\, United States
ATTACH;FMTTYPE=image/png:https://savannahlakesvillage.com/wp-content/uploads/2024/07/YOGA-CLASS.png
END:VEVENT
BEGIN:VEVENT
DTSTART;TZID=UTC:20260618T093000
DTEND;TZID=UTC:20260618T110000
DTSTAMP:20260422T234300
CREATED:20240723T190717Z
LAST-MODIFIED:20260108T164714Z
UID:10002490-1781775000-1781780400@savannahlakesvillage.com
SUMMARY:YOGA
DESCRIPTION:
URL:https://savannahlakesvillage.com/event/yoga-2/2026-06-18/
LOCATION:Recreation Center\, 385 Country Club Drive\, McCormick\, SC\, 29835\, United States
ATTACH;FMTTYPE=image/png:https://savannahlakesvillage.com/wp-content/uploads/2024/07/YOGA-CLASS.png
END:VEVENT
BEGIN:VEVENT
DTSTART;TZID=UTC:20260619T093000
DTEND;TZID=UTC:20260619T110000
DTSTAMP:20260422T234300
CREATED:20240723T190717Z
LAST-MODIFIED:20260108T164714Z
UID:10002491-1781861400-1781866800@savannahlakesvillage.com
SUMMARY:YOGA
DESCRIPTION:
URL:https://savannahlakesvillage.com/event/yoga-2/2026-06-19/
LOCATION:Recreation Center\, 385 Country Club Drive\, McCormick\, SC\, 29835\, United States
ATTACH;FMTTYPE=image/png:https://savannahlakesvillage.com/wp-content/uploads/2024/07/YOGA-CLASS.png
END:VEVENT
BEGIN:VEVENT
DTSTART;TZID=UTC:20260623T093000
DTEND;TZID=UTC:20260623T110000
DTSTAMP:20260422T234300
CREATED:20240723T190717Z
LAST-MODIFIED:20260108T164714Z
UID:10002492-1782207000-1782212400@savannahlakesvillage.com
SUMMARY:YOGA
DESCRIPTION:
URL:https://savannahlakesvillage.com/event/yoga-2/2026-06-23/
LOCATION:Recreation Center\, 385 Country Club Drive\, McCormick\, SC\, 29835\, United States
ATTACH;FMTTYPE=image/png:https://savannahlakesvillage.com/wp-content/uploads/2024/07/YOGA-CLASS.png
END:VEVENT
BEGIN:VEVENT
DTSTART;TZID=UTC:20260625T093000
DTEND;TZID=UTC:20260625T110000
DTSTAMP:20260422T234300
CREATED:20240723T190717Z
LAST-MODIFIED:20260108T164714Z
UID:10002493-1782379800-1782385200@savannahlakesvillage.com
SUMMARY:YOGA
DESCRIPTION:
URL:https://savannahlakesvillage.com/event/yoga-2/2026-06-25/
LOCATION:Recreation Center\, 385 Country Club Drive\, McCormick\, SC\, 29835\, United States
ATTACH;FMTTYPE=image/png:https://savannahlakesvillage.com/wp-content/uploads/2024/07/YOGA-CLASS.png
END:VEVENT
BEGIN:VEVENT
DTSTART;TZID=UTC:20260626T093000
DTEND;TZID=UTC:20260626T110000
DTSTAMP:20260422T234300
CREATED:20240723T190717Z
LAST-MODIFIED:20260108T164714Z
UID:10002494-1782466200-1782471600@savannahlakesvillage.com
SUMMARY:YOGA
DESCRIPTION:
URL:https://savannahlakesvillage.com/event/yoga-2/2026-06-26/
LOCATION:Recreation Center\, 385 Country Club Drive\, McCormick\, SC\, 29835\, United States
ATTACH;FMTTYPE=image/png:https://savannahlakesvillage.com/wp-content/uploads/2024/07/YOGA-CLASS.png
END:VEVENT
BEGIN:VEVENT
DTSTART;TZID=UTC:20260630T093000
DTEND;TZID=UTC:20260630T110000
DTSTAMP:20260422T234300
CREATED:20240723T190717Z
LAST-MODIFIED:20260108T164714Z
UID:10002495-1782811800-1782817200@savannahlakesvillage.com
SUMMARY:YOGA
DESCRIPTION:
URL:https://savannahlakesvillage.com/event/yoga-2/2026-06-30/
LOCATION:Recreation Center\, 385 Country Club Drive\, McCormick\, SC\, 29835\, United States
ATTACH;FMTTYPE=image/png:https://savannahlakesvillage.com/wp-content/uploads/2024/07/YOGA-CLASS.png
END:VEVENT
END:VCALENDAR